BEGIN:VCALENDAR
VERSION:2.0
PRODID:-//eventon.com NONSGML v1.0//EN
CALSCALE:GREGORIAN
METHOD:PUBLISH
BEGIN:VEVENT
UID:69e74c8757e36
DTSTAMP:20260421T100807Z
DTSTART:20180526T170000Z
DTEND:20180526T205000Z
LOCATION:NHKM - İzmir Anafartalar Caddesi No: 20 OS-KA Pasajı 35250 Konak - İzmir <br>0530 132 18 40 • (0232) 46 444 46
SUMMARY:Peyk ve Yapıcılar
DESCRIPTION:Yeni albümlerinden ilk kez dinleyeceğiniz şarkılarıyla PEY
 K ve aydınlık yarınların şarkılarını söyleyen YAPICILAR\,  birlikt
 e sahne alıyorlar&#8230; Ve size bir de kısa film sürpriziyle geliyorlar
 &#8230;\nhttps://izmir.nhkm.org.tr/etkinlikler/peyk-ve-yapicilar/
URL:https://izmir.nhkm.org.tr/etkinlikler/peyk-ve-yapicilar/
END:VEVENT
END:VCALENDAR