BEGIN:VCALENDAR
VERSION:2.0
PRODID:-//eventon.com NONSGML v1.0//EN
CALSCALE:GREGORIAN
METHOD:PUBLISH
BEGIN:VEVENT
UID:69e73b96c43ee
DTSTAMP:20260421T085550Z
DTSTART:20260314T173000Z
DTEND:20260314T200000Z
LOCATION:NHKM - İzmir Anafartalar Caddesi No: 20 OS-KA Pasajı 35250 Konak - İzmir <br>0530 132 18 40 • (0232) 46 444 46
SUMMARY:Gidiyoruz Biz
DESCRIPTION:&#8220;Gidiyoruz Biz&#8221;\,  insanın kendiyle hesaplaşması
 nı\,  suskunlukla örülmüş ilişkileri ve geçmişten bugüne taşınan
  yükleri; yer yer gülümseten\,  yer yer iç acıtan bir anlatımla sahne
 ye taşıyor. Oyun\,  iki karakter üzerinden ilerlerken aslında tek bir s
 orunun etrafında dolanıyor: Gitmek mi kalmak mı? Gidiyoruz Biz Komedi / 
 İki Perde Bizim Tiyatro Yazan: Adnan Berberoğlu[..]\nhttps://izmir.nhkm.o
 rg.tr/etkinlikler/gidiyoruz-biz/
URL:https://izmir.nhkm.org.tr/etkinlikler/gidiyoruz-biz/
END:VEVENT
END:VCALENDAR