BEGIN:VCALENDAR
VERSION:2.0
PRODID:-//eventon.com NONSGML v1.0//EN
CALSCALE:GREGORIAN
METHOD:PUBLISH
BEGIN:VEVENT
UID:69e889c3277c1
DTSTAMP:20260422T084139Z
DTSTART:20260305T173000Z
DTEND:20260305T200000Z
LOCATION:NHKM - İzmir Anafartalar Caddesi No: 20 OS-KA Pasajı 35250 Konak - İzmir <br>0530 132 18 40 • (0232) 46 444 46
SUMMARY:Sokrates'in Savunması
DESCRIPTION:“Oyun\,  Sokrates’in ünlü savunmasını ve mahkum edilme 
 süreçlerini anlatmaktadır. Kendisine yöneltilen “gençlerin ahlakın
  bozmak ve dinsizlik” suçlamalarına karşı Atina vatandaşlarından o
 luşan yargıçlara\,  suçlamaların yalan ve asılsız olduğunu\,  sorul
 ar sorarak kanıtlamaya çalışır. Bu savunma; ‘demokrasi’\,  ‘adal
 et’ ve ‘bilgi gibi kavramların tartışıldığı tüm insanlığa yö
 nelik büyük bir ders olmuştur. Güncelliğini de her[..]\nhttps://izmir.
 nhkm.org.tr/etkinlikler/sokratesin-savunmasi-7/
URL:https://izmir.nhkm.org.tr/etkinlikler/sokratesin-savunmasi-7/
END:VEVENT
END:VCALENDAR