BEGIN:VCALENDAR
VERSION:2.0
PRODID:-//eventon.com NONSGML v1.0//EN
CALSCALE:GREGORIAN
METHOD:PUBLISH
BEGIN:VEVENT
UID:69e8b8a9ad9ac
DTSTAMP:20260422T120145Z
DTSTART:20260128T173000Z
DTEND:20260128T200000Z
LOCATION:NHKM - İzmir Anafartalar Caddesi No: 20 OS-KA Pasajı 35250 Konak - İzmir <br>0530 132 18 40 • (0232) 46 444 46
SUMMARY:Don Kişot'un Ölümü
DESCRIPTION:Cervantes&#8217;in Dünya Edebiyat tarihine bir hediyesi olan D
 on Kişot ve Sancho Panza karakterlerini Tiyatro Ansambl yorumu ile izleyec
 eğimiz &#8220;Don Kişot&#8217;un Ölümü&#8220;\,  karanlığın dünyay
 a hükmettiği bir çağda\,  deliliğin cesaretle ayağa kalkıp cehalete\
 ,  yalana ve ikiyüzlülüğe meydan okuduğu bir hikâye sunuyor bizlere&#
 8230; Kişot ve Sancho\,  karanlıkla yüzleşebilmek için uzun bir süred
 ir yol[..]\nhttps://izmir.nhkm.org.tr/etkinlikler/don-kisotun-olumu/
URL:https://izmir.nhkm.org.tr/etkinlikler/don-kisotun-olumu/
END:VEVENT
END:VCALENDAR