BEGIN:VCALENDAR
VERSION:2.0
PRODID:-//eventon.com NONSGML v1.0//EN
CALSCALE:GREGORIAN
METHOD:PUBLISH
BEGIN:VEVENT
UID:69eb3ef0c5884
DTSTAMP:20260424T095912Z
DTSTART:20260120T170000Z
DTEND:20260120T200000Z
LOCATION:NHKM - Ä°zmir Anafartalar Caddesi No: 20 OS-KA PasajÄ± 35250 Konak - Ä°zmir <br>0530 132 18 40 â€¢ (0232) 46 444 46
SUMMARY:GÃ¼le GÃ¼le Diva
DESCRIPTION:&#8220;GÃ¼nseli\,  belirsiz bir yolculuÄŸun eÅŸiÄŸindedir. Ã–mr
 Ã¼nÃ¼n en gÃ¼zel anÄ±dÄ±r\,  yaÅŸamla Ã¶lÃ¼m arasÄ±ndaki o ince Ã§izgiyi fa
 rk ettiÄŸi an. BekleyiÅŸi onun iÃ§in akÄ±p giden bir zamandan ibaret deÄŸil
 \,  kapÄ±larÄ±n ardÄ±nda gizlenen sÄ±rlarÄ±n ve kaybolmuÅŸ hÃ¼zÃ¼nlerin keÅ
 Ÿfidir. Her bir gÃ¶z temasÄ±\,  geÃ§miÅŸe bir selam duruÅŸ; her bir gÃ¼lÃ¼m
 seme\,  acÄ±yla harmanlanmÄ±ÅŸ bir umutâ€¦&#8221;[..]\nhttps://izmir.nhkm.o
 rg.tr/etkinlikler/gule-gule-diva-2/
URL:https://izmir.nhkm.org.tr/etkinlikler/gule-gule-diva-2/
END:VEVENT
END:VCALENDAR