BEGIN:VCALENDAR
VERSION:2.0
PRODID:-//eventon.com NONSGML v1.0//EN
CALSCALE:GREGORIAN
METHOD:PUBLISH
BEGIN:VEVENT
UID:69e8b8a288adb
DTSTAMP:20260422T120138Z
DTSTART:20260131T173000Z
DTEND:20260131T200000Z
LOCATION:NHKM - İzmir Anafartalar Caddesi No: 20 OS-KA Pasajı 35250 Konak - İzmir <br>0530 132 18 40 • (0232) 46 444 46
SUMMARY:Hiçbiri Bugün Yaşanmadı
DESCRIPTION:Hayaletler sadece geçmişten gelmez\,  gelecekten de gelir. Ne
  olmak istediğimizin\,  ne olacağımızın gölgesi devinir durur zihnimi
 zde. Yaşadığımız çağın\,  toplumun\,  memleketin bizi götüreceği
  yer de eklenir buna. Bugün\,  sırtımızda geçmişimizle baktığımız
  ya da kaçtığımız bir gelecekten ibaret hale gelir. Geçmiş ve gelece
 k\,  bugünün üzerinde bütün ağırlığıyla oturur böyle zamanlarda;
  nefes alışverişimize[..]\nhttps://izmir.nhkm.org.tr/etkinlikler/hicbiri
 -bugun-yasanmadi/
URL:https://izmir.nhkm.org.tr/etkinlikler/hicbiri-bugun-yasanmadi/
END:VEVENT
END:VCALENDAR