BEGIN:VCALENDAR
VERSION:2.0
PRODID:-//eventon.com NONSGML v1.0//EN
CALSCALE:GREGORIAN
METHOD:PUBLISH
BEGIN:VEVENT
UID:69e52860b87e4
DTSTAMP:20260419T190920Z
DTSTART:20240505T173000Z
DTEND:20240505T200000Z
LOCATION:NHKM - İzmir Anafartalar Caddesi No: 20 OS-KA Pasajı 35250 Konak - İzmir <br>0530 132 18 40 • (0232) 46 444 46
SUMMARY:Ruken Yılmaz
DESCRIPTION:İstanbul&#8217;da doğan Ruken\,  aslen Siirt &#8211; Eruh’l
 udur. Gitar çalıp şarkı söyleyerek başladığı müzik yolculuğunda\
 ,  genç yaşta sahne deneyimi kazandı. Eğitimini Marmara Üniversitesi M
 üzik Öğretmenliği bölümünde tamamlayan sanatçı\,  uzun yıllar Mez
 opotamya Kültür Merkezi bünyesinde müzikal faaliyetlerde yer aldı. Kar
 iyerine birçok farklı projeyi sığdıran Ruken\,  2016&#8217;da yayınla
 dığı ilk solo albümü &#8216;Zelî&#8217;den itibaren\, [..]\nhttps://i
 zmir.nhkm.org.tr/etkinlikler/ruken-yilmaz/
URL:https://izmir.nhkm.org.tr/etkinlikler/ruken-yilmaz/
END:VEVENT
END:VCALENDAR