BEGIN:VCALENDAR
VERSION:2.0
PRODID:-//eventon.com NONSGML v1.0//EN
CALSCALE:GREGORIAN
METHOD:PUBLISH
BEGIN:VEVENT
UID:69e73cbd98c57
DTSTAMP:20260421T090045Z
DTSTART:20240227T173000Z
DTEND:20240227T200000Z
LOCATION:
SUMMARY:Edebiyat SÃ¶yleÅŸileri: Suat DerviÅŸ HayatÄ± ve Eserleri
DESCRIPTION:&#8216;Toplumcu GerÃ§ekÃ§ilik&#8217; tÃ¼rÃ¼nde verdiÄŸi Ã§ok sa
 yÄ±da edebiyat yapÄ±tÄ±yla bilinen TÃ¼rkiye&#8217;nin Ã¶nde gelen yazarlarÄ
 ±ndan Suat DerviÅŸ&#8217;in edebi ve politik yaÅŸamÄ±nÄ± Rusya Bilimler Aka
 demisi Åžarkiyat EnstitÃ¼sÃ¼ Åžark Tarihi bÃ¶lÃ¼mÃ¼nde Ã¶ÄŸretim gÃ¶revlisi
  olan Prof.Dr. Alfina Sibgatullina ile konuÅŸacaÄŸÄ±z. ModeratÃ¶r: Zuhal Ok
 uyan KonuÅŸmacÄ±: Prof.Dr. Alfina Sibgatullina\,  (Rusya Bilimler Akademisi
  Åžarkiyat EnstitÃ¼sÃ¼) Prof.Dr. Alfina SibgatullinaÂ [..]\nhttps://izmir.n
 hkm.org.tr/etkinlikler/edebiyat-soylesileri-alfina-sibgatullinain-muhtesem-
 ve-kizil-suat-kitabi-uzerine/
URL:https://izmir.nhkm.org.tr/etkinlikler/edebiyat-soylesileri-alfina-sibgatullinain-muhtesem-ve-kizil-suat-kitabi-uzerine/
END:VEVENT
END:VCALENDAR