BEGIN:VCALENDAR
VERSION:2.0
PRODID:-//eventon.com NONSGML v1.0//EN
CALSCALE:GREGORIAN
METHOD:PUBLISH
BEGIN:VEVENT
UID:69e8d9c8bc8c9
DTSTAMP:20260422T142304Z
DTSTART:20230503T173000Z
DTEND:20230503T200000Z
LOCATION:NHKM - İzmir Anafartalar Caddesi No: 20 OS-KA Pasajı 35250 Konak - İzmir <br>0530 132 18 40 • (0232) 46 444 46
SUMMARY:Görmek
DESCRIPTION:Bir sabah uyanıp egemenlerin demokrasinin kurallarını diledi
 kleri gibi değiştirdikleri politikalarına &#8220;artık yeter&#8221; dem
 eye karar veren bir kentin başına neler gelebilir dersiniz? Yüksek demok
 rasi ile yönetilen ve adı bilinmeyen bir ülkede yapılan seçimlerin şa
 şırtıcı sonuçları\,  egemenlerin kirli yüzünü ortaya çıkarabilir
  mi? Ne pahasına olursa olsun kendi çıkarlarına hizmet edenlerin\,  dah
 a iyi[..]\nhttps://izmir.nhkm.org.tr/etkinlikler/gormek-3mayis/
URL:https://izmir.nhkm.org.tr/etkinlikler/gormek-3mayis/
END:VEVENT
END:VCALENDAR