BEGIN:VCALENDAR
VERSION:2.0
PRODID:-//eventon.com NONSGML v1.0//EN
CALSCALE:GREGORIAN
METHOD:PUBLISH
BEGIN:VEVENT
UID:69e9f6e1bdb4b
DTSTAMP:20260423T103929Z
DTSTART:20221015T170000Z
DTEND:20221015T200000Z
LOCATION:NHKM - İzmir Anafartalar Caddesi No: 20 OS-KA Pasajı 35250 Konak - İzmir <br>0530 132 18 40 • (0232) 46 444 46
SUMMARY:Korkuyu Beklerken
DESCRIPTION:Korkularından başka silahı olmayan bir adamın\,  silahları
  parçalanana kadar mücadele ettiği bir kavga. Bu kavgada anlatılanlar i
 çin aslında bir başka Tutunamayan&#8217;ın hikayesidir diyebiliriz. Zam
 an zaman bir rehber olarak kullanmaya çalıştığımız Tutunamayanlar&#8
 217;da\,  Oğuz Atay bu türün (disconnectus erectus) tanımı için şöy
 le demiş; &#8220;Erkekleri\,  yalnız bırakıldıkları zaman acıklı se
 sler çıkarırlar. Dişilerini de[..]\nhttps://izmir.nhkm.org.tr/etkinlikl
 er/korkuyu-beklerken-15ekim/
URL:https://izmir.nhkm.org.tr/etkinlikler/korkuyu-beklerken-15ekim/
END:VEVENT
END:VCALENDAR