BEGIN:VCALENDAR
VERSION:2.0
PRODID:-//eventon.com NONSGML v1.0//EN
CALSCALE:GREGORIAN
METHOD:PUBLISH
BEGIN:VEVENT
UID:69e88a19aca35
DTSTAMP:20260422T084305Z
DTSTART:20220522T120000Z
DTEND:20220522T150000Z
LOCATION:NHKM - İzmir Anafartalar Caddesi No: 20 OS-KA Pasajı 35250 Konak - İzmir <br>0530 132 18 40 • (0232) 46 444 46
SUMMARY:Allı Turna
DESCRIPTION:Dünyanın en büyük problemlerinden biri olan mülteci sorunu
 na çocuk gözüyle bir bakış açısı.. Ormanda çıkan kargaşa nedeniy
 le ailesinden ayrı düşen Emel’in\,  Allı Turna ile yaşadıkları mac
 eralar ve ailesine kavuşmasının hikayesi. &nbsp; Yazan Levent Balta Oyun
 laştıran Sibel Aduş Başkaya Yöneten Özgür Başkaya Yönetmen Yardım
 cısı Haydar Bayak Oynayanlar Eda Nur Tuzlacı\,  Pınar[..]\nhttps://izmi
 r.nhkm.org.tr/etkinlikler/alli-turna-22-mayis/
URL:https://izmir.nhkm.org.tr/etkinlikler/alli-turna-22-mayis/
END:VEVENT
END:VCALENDAR