BEGIN:VCALENDAR
VERSION:2.0
PRODID:-//eventon.com NONSGML v1.0//EN
CALSCALE:GREGORIAN
METHOD:PUBLISH
BEGIN:VEVENT
UID:69e73b21ecc6a
DTSTAMP:20260421T085353Z
DTSTART:20211120T170000Z
DTEND:20211120T200000Z
LOCATION:NHKM - İzmir Anafartalar Caddesi No: 20 OS-KA Pasajı 35250 Konak - İzmir <br>0530 132 18 40 • (0232) 46 444 46
SUMMARY:Mehmet Atlı
DESCRIPTION:Mehmet Atlı\,  Kürt müzisyen\,  mimar\,  yazar. (d. 1975\,  
 Diyarbakır) 1990’lı yılların\,  İstanbul’daki ünlü Kürt protest
  müzik gruplarından Koma Dengê Azadî ile başlayan müzik serüvenini 2
 000’lerden günümüze solo çalışmalarla sürdürüyor. Besteci\,  şa
 rkı sözü yazarı\,  solist\,  müzik yazarlığı ve enstrümanist kimli
 kleri ile Mehmet Atlı\,  müzikle çok yönlü ilişkiler içerisindedir. 
 Müzisyen\,  daha çok[..]\nhttps://izmir.nhkm.org.tr/etkinlikler/mehmet_at
 li/
URL:https://izmir.nhkm.org.tr/etkinlikler/mehmet_atli/
END:VEVENT
END:VCALENDAR