BEGIN:VCALENDAR
VERSION:2.0
PRODID:-//eventon.com NONSGML v1.0//EN
CALSCALE:GREGORIAN
METHOD:PUBLISH
BEGIN:VEVENT
UID:69e76311399d8
DTSTAMP:20260421T114417Z
DTSTART:20200204T163000Z
DTEND:20200204T205000Z
LOCATION:NHKM - Ä°zmir Anafartalar Caddesi No: 20 OS-KA PasajÄ± 35250 Konak - Ä°zmir <br>0530 132 18 40 â€¢ (0232) 46 444 46
SUMMARY:Cumartesi Gecesi\,  Pazar SabahÄ±
DESCRIPTION:YÃ¶netmen Karel Reisz Senaryo Alan Sillitoe Oyuncular Albert Fi
 nney\,  Shirley Anne Field\,  Rachel Roberts YapÄ±m Ä°ngiltere\, 1960 SÃ¼re
  90 dakika 1950&#8217;lerin sonlarÄ±na gelindiÄŸinde\,  edebiyat ve tiyatro
 da &#8220;Ã¶fkeli genÃ§ adamlar&#8221; diye bir ufuk kendini gÃ¶steriyor: Ä
 °ÅŸÃ§i sÄ±nÄ±fÄ±nÄ±n genÃ§ Ã¼yeleri\,  iÃ§inde yaÅŸadÄ±klarÄ± topluma Ã¶fke
 yle yaklaÅŸÄ±yorlar. DeÄŸiÅŸim ihtiyacÄ±\,  insanca bir yaÅŸam ihtiyacÄ±\, 
  aslÄ±nda Ä°ngiltere&#8217;nin[..]\nhttps://izmir.nhkm.org.tr/etkinlikler/c
 umartesi-gecesi-pazar-sabahi/
URL:https://izmir.nhkm.org.tr/etkinlikler/cumartesi-gecesi-pazar-sabahi/
END:VEVENT
END:VCALENDAR