BEGIN:VCALENDAR
VERSION:2.0
PRODID:-//eventon.com NONSGML v1.0//EN
CALSCALE:GREGORIAN
METHOD:PUBLISH
BEGIN:VEVENT
UID:69ecea7881cc8
DTSTAMP:20260425T162320Z
DTSTART:20190723T173000Z
DTEND:20190723T200000Z
LOCATION:NHKM - İzmir Anafartalar Caddesi No: 20 OS-KA Pasajı 35250 Konak - İzmir <br>0530 132 18 40 • (0232) 46 444 46
SUMMARY:Frida
DESCRIPTION:20. yüzyılın en önemli kadın figürlerinden birisi olan Me
 ksikalı ressam Frida Kahlo\,  Devlet Tiyatrosu oyuncusu Melike Aslıkılan
 ’ın yorumuyla sahneye taşınıyor. Beliz Güzçbilmez’in yazdığı o
 yun\,  Frida’yı oynayacak olan bir oyuncunun gözünden Frida’nın hay
 atını\,  yaşadığı çatışmaları\,  eşi Diego ile ilişkilerini\,  
 ressamlığını ve devrimciliği üzerinde dururken aynı zamanda oyuncunu
 n da Frida’nın kişiliği üzerinden[..]\nhttps://izmir.nhkm.org.tr/etki
 nlikler/frida-2/
URL:https://izmir.nhkm.org.tr/etkinlikler/frida-2/
END:VEVENT
END:VCALENDAR